BEGIN:VCALENDAR
VERSION:2.0
PRODID:-//ChamberMaster//Event Calendar 2.0//EN
METHOD:PUBLISH
X-PUBLISHED-TTL:P1H
REFRESH-INTERVAL:P1H
CALSCALE:GREGORIAN
BEGIN:VTIMEZONE
TZID:America/New_York
BEGIN:DAYLIGHT
RRULE:FREQ=YEARLY;BYMONTH=3;BYDAY=2SU
DTSTART:20070101T000000
TZOFFSETFROM:-0500
TZOFFSETTO:-0400
TZNAME:Eastern Daylight Time
END:DAYLIGHT
BEGIN:STANDARD
RRULE:FREQ=YEARLY;BYMONTH=11;BYDAY=1SU
DTSTART:20070101T000000
TZOFFSETFROM:-0400
TZOFFSETTO:-0500
TZNAME:Eastern Standard Time
END:STANDARD
END:VTIMEZONE
BEGIN:VEVENT
DTSTART;TZID=America/New_York:20260501T113000
DTEND;TZID=America/New_York:20260501T130000
X-MICROSOFT-CDO-ALLDAYEVENT:FALSE
SUMMARY:CANCELED: May 2026 First Friday Luncheon
DESCRIPTION:Join fellow business professionals from the Defiance community at an informational luncheon. Doors open at 11:30 am\, with a buffet lunch\, and the presentation begins around 12:10 pm.  The event concludes by 1 pm.
X-ALT-DESC;FMTTYPE=text/html:Join fellow business professionals from the Defiance community at an informational luncheon. Doors open at 11:30 am\, with a buffet lunch\, and the presentation begins around 12:10 pm.  The event concludes by 1 pm.
LOCATION:519 Clinton Street Defiance OH 43512
UID:e.2122.1356749
SEQUENCE:3
DTSTAMP:20260423T140728Z
URL:https://business.defiancechamber.com/event-calendar/Details/canceled-may-2026-first-friday-luncheon-1596677?sourceTypeId=Hub
END:VEVENT
END:VCALENDAR
